BEGIN:VCALENDAR
VERSION:2.0
PRODID:-//Taeryon e.V. - ECPv6.2.9//NONSGML v1.0//EN
CALSCALE:GREGORIAN
METHOD:PUBLISH
X-ORIGINAL-URL:https://taeryon.bayern/WordPress_02
X-WR-CALDESC:Veranstaltungen für Taeryon e.V.
REFRESH-INTERVAL;VALUE=DURATION:PT1H
X-Robots-Tag:noindex
X-PUBLISHED-TTL:PT1H
BEGIN:VTIMEZONE
TZID:Europe/Berlin
BEGIN:DAYLIGHT
TZOFFSETFROM:+0100
TZOFFSETTO:+0200
TZNAME:CEST
DTSTART:20230326T010000
END:DAYLIGHT
BEGIN:STANDARD
TZOFFSETFROM:+0200
TZOFFSETTO:+0100
TZNAME:CET
DTSTART:20231029T010000
END:STANDARD
END:VTIMEZONE
BEGIN:VEVENT
DTSTART;TZID=Europe/Berlin:20230212T121500
DTEND;TZID=Europe/Berlin:20230212T153000
DTSTAMP:20260424T002059
CREATED:20221204T123116Z
LAST-MODIFIED:20221204T123618Z
UID:3314-1676204100-1676215800@taeryon.bayern
SUMMARY:KUP-Prüfung Kinder 12.2.2023
DESCRIPTION:KUP-Prüfung Kinder 12.2.2023\nLink zur Ausschreibung
URL:https://taeryon.bayern/WordPress_02/index.php/event/kup-pruefung-kinder-12-2-2023/
LOCATION:Turnhalle Martinschule\, Martinstr. 7\, Olching\, 82140
ORGANIZER;CN="Taeryon e.V.":MAILTO:info@taeryon.bayern
END:VEVENT
BEGIN:VEVENT
DTSTART;TZID=Europe/Berlin:20230212T153000
DTEND;TZID=Europe/Berlin:20230212T180000
DTSTAMP:20260424T002059
CREATED:20221204T122230Z
LAST-MODIFIED:20221204T122705Z
UID:3309-1676215800-1676224800@taeryon.bayern
SUMMARY:KUP-Prüfung Erwachsene und Jugendliche 12.2.2023
DESCRIPTION:KUP-Prüfung Erwachsene und Jugendliche 12.2.2023\nLink zur Ausschreibung
URL:https://taeryon.bayern/WordPress_02/index.php/event/kup-pruefung-erwachsene-und-jugendliche-12-2-2023/
LOCATION:Turnhalle Martinschule\, Martinstr. 7\, Olching\, 82140
ORGANIZER;CN="Taeryon e.V.":MAILTO:info@taeryon.bayern
END:VEVENT
END:VCALENDAR