BEGIN:VCALENDAR
VERSION:2.0
PRODID:-//Taeryon e.V. - ECPv6.2.9//NONSGML v1.0//EN
CALSCALE:GREGORIAN
METHOD:PUBLISH
X-ORIGINAL-URL:https://taeryon.bayern/WordPress_02
X-WR-CALDESC:Veranstaltungen für Taeryon e.V.
REFRESH-INTERVAL;VALUE=DURATION:PT1H
X-Robots-Tag:noindex
X-PUBLISHED-TTL:PT1H
BEGIN:VTIMEZONE
TZID:Europe/Berlin
BEGIN:DAYLIGHT
TZOFFSETFROM:+0100
TZOFFSETTO:+0200
TZNAME:CEST
DTSTART:20220327T010000
END:DAYLIGHT
BEGIN:STANDARD
TZOFFSETFROM:+0200
TZOFFSETTO:+0100
TZNAME:CET
DTSTART:20221030T010000
END:STANDARD
END:VTIMEZONE
BEGIN:VEVENT
DTSTART;VALUE=DATE:20221029
DTEND;VALUE=DATE:20221102
DTSTAMP:20260424T052924
CREATED:20220128T090019Z
LAST-MODIFIED:20220128T101115Z
UID:2607-1667001600-1667347199@taeryon.bayern
SUMMARY:TKD Sportcamp in Nordbayern
DESCRIPTION:Taeryon TKD Sportcamp Nordbayern\nLink zur Ausschreibung
URL:https://taeryon.bayern/WordPress_02/index.php/event/taeryon-tkd-sportcamp-in-nordbayern/
LOCATION:BLSV Sportcamp Nordbayern\, Am Sportcamp 1\, Bischofsgrün\, Bayern\, 95493\, Deutschland
ORGANIZER;CN="Taeryon e.V.":MAILTO:info@taeryon.bayern
END:VEVENT
END:VCALENDAR