BEGIN:VCALENDAR
VERSION:2.0
PRODID:-//Taeryon e.V. - ECPv6.2.9//NONSGML v1.0//EN
CALSCALE:GREGORIAN
METHOD:PUBLISH
X-ORIGINAL-URL:https://taeryon.bayern/WordPress_02
X-WR-CALDESC:Veranstaltungen für Taeryon e.V.
REFRESH-INTERVAL;VALUE=DURATION:PT1H
X-Robots-Tag:noindex
X-PUBLISHED-TTL:PT1H
BEGIN:VTIMEZONE
TZID:Europe/Berlin
BEGIN:DAYLIGHT
TZOFFSETFROM:+0100
TZOFFSETTO:+0200
TZNAME:CEST
DTSTART:20210328T010000
END:DAYLIGHT
BEGIN:STANDARD
TZOFFSETFROM:+0200
TZOFFSETTO:+0100
TZNAME:CET
DTSTART:20211031T010000
END:STANDARD
END:VTIMEZONE
BEGIN:VEVENT
DTSTART;TZID=Europe/Berlin:20210404T100000
DTEND;TZID=Europe/Berlin:20210405T153000
DTSTAMP:20260425T135111
CREATED:20210321T080002Z
LAST-MODIFIED:20210321T102034Z
UID:2601-1617530400-1617636600@taeryon.bayern
SUMMARY:TKD Osterlehrgang 2021 Online
DESCRIPTION:TKD Osterlehrgang 2021 online\nLink zur Ausschreibung
URL:https://taeryon.bayern/WordPress_02/index.php/event/tkd-fruehlingslehrgang-taeryon/
LOCATION:Online über Zoom
ORGANIZER;CN="Taeryon e.V.":MAILTO:info@taeryon.bayern
END:VEVENT
END:VCALENDAR