BEGIN:VCALENDAR
VERSION:2.0
PRODID:-//Taeryon e.V. - ECPv6.2.9//NONSGML v1.0//EN
CALSCALE:GREGORIAN
METHOD:PUBLISH
X-WR-CALNAME:Taeryon e.V.
X-ORIGINAL-URL:https://taeryon.bayern/WordPress_02
X-WR-CALDESC:Veranstaltungen für Taeryon e.V.
REFRESH-INTERVAL;VALUE=DURATION:PT1H
X-Robots-Tag:noindex
X-PUBLISHED-TTL:PT1H
BEGIN:VTIMEZONE
TZID:Europe/Berlin
BEGIN:DAYLIGHT
TZOFFSETFROM:+0100
TZOFFSETTO:+0200
TZNAME:CEST
DTSTART:20240331T010000
END:DAYLIGHT
BEGIN:STANDARD
TZOFFSETFROM:+0200
TZOFFSETTO:+0100
TZNAME:CET
DTSTART:20241027T010000
END:STANDARD
END:VTIMEZONE
BEGIN:VEVENT
DTSTART;VALUE=DATE:20241030
DTEND;VALUE=DATE:20241103
DTSTAMP:20260422T131414
CREATED:20231127T101340Z
LAST-MODIFIED:20231127T101340Z
UID:3479-1730246400-1730591999@taeryon.bayern
SUMMARY:Taeryon TKD BLSV-Sportcamp Regen
DESCRIPTION:Taeryon TKD BLSV-Sportcamp Regen\nLink zur Ausschreibung
URL:https://taeryon.bayern/WordPress_02/index.php/event/taeryon-tkd-blsv-sportcamp-regen/
LOCATION:BLSV Camp Regen\, Raithmühle 3\, Regen\, Bayern\, 94209
ORGANIZER;CN="Taeryon e.V.":MAILTO:info@taeryon.bayern
END:VEVENT
END:VCALENDAR