BEGIN:VCALENDAR
VERSION:2.0
PRODID:-//Taeryon e.V. - ECPv6.2.9//NONSGML v1.0//EN
CALSCALE:GREGORIAN
METHOD:PUBLISH
X-ORIGINAL-URL:https://taeryon.bayern/WordPress_02
X-WR-CALDESC:Veranstaltungen für Taeryon e.V.
REFRESH-INTERVAL;VALUE=DURATION:PT1H
X-Robots-Tag:noindex
X-PUBLISHED-TTL:PT1H
BEGIN:VTIMEZONE
TZID:Europe/Berlin
BEGIN:DAYLIGHT
TZOFFSETFROM:+0100
TZOFFSETTO:+0200
TZNAME:CEST
DTSTART:20230326T010000
END:DAYLIGHT
BEGIN:STANDARD
TZOFFSETFROM:+0200
TZOFFSETTO:+0100
TZNAME:CET
DTSTART:20231029T010000
END:STANDARD
END:VTIMEZONE
BEGIN:VEVENT
DTSTART;TZID=Europe/Berlin:20230716T121500
DTEND;TZID=Europe/Berlin:20230716T153000
DTSTAMP:20260423T172359
CREATED:20230513T090321Z
LAST-MODIFIED:20230513T090321Z
UID:3415-1689509700-1689521400@taeryon.bayern
SUMMARY:KUP-Prüfung Kinder am 16.7.2023
DESCRIPTION:KUP-Prüfung Kinder am 16.7.2023\nLink zur Ausschreibung
URL:https://taeryon.bayern/WordPress_02/index.php/event/kup-pruefung-kinder-am-16-7-2023/
LOCATION:Dreifachturnhalle Heckenstrasse\, Heckenstr. 11\, Olching\, 82140
END:VEVENT
BEGIN:VEVENT
DTSTART;TZID=Europe/Berlin:20230716T153000
DTEND;TZID=Europe/Berlin:20230716T180000
DTSTAMP:20260423T172359
CREATED:20230513T091038Z
LAST-MODIFIED:20230513T091038Z
UID:3418-1689521400-1689530400@taeryon.bayern
SUMMARY:KUP-Prüfung Erwachsene und Jugendliche am 16.7.2023
DESCRIPTION:KUP-Prüfung Erwachsene und Jugendliche am 16.7.2023\nLink zur Ausschreibung
URL:https://taeryon.bayern/WordPress_02/index.php/event/kup-pruefung-erwachsene-und-jugendliche-am-16-7-2023/
LOCATION:Dreifachturnhalle Heckenstrasse\, Heckenstr. 11\, Olching\, 82140
ORGANIZER;CN="Taeryon e.V.":MAILTO:info@taeryon.bayern
END:VEVENT
END:VCALENDAR