BEGIN:VCALENDAR
VERSION:2.0
PRODID:-//Taeryon e.V. - ECPv6.2.9//NONSGML v1.0//EN
CALSCALE:GREGORIAN
METHOD:PUBLISH
X-ORIGINAL-URL:https://taeryon.bayern/WordPress_02
X-WR-CALDESC:Veranstaltungen für Taeryon e.V.
REFRESH-INTERVAL;VALUE=DURATION:PT1H
X-Robots-Tag:noindex
X-PUBLISHED-TTL:PT1H
BEGIN:VTIMEZONE
TZID:Europe/Berlin
BEGIN:DAYLIGHT
TZOFFSETFROM:+0100
TZOFFSETTO:+0200
TZNAME:CEST
DTSTART:20230326T010000
END:DAYLIGHT
BEGIN:STANDARD
TZOFFSETFROM:+0200
TZOFFSETTO:+0100
TZNAME:CET
DTSTART:20231029T010000
END:STANDARD
END:VTIMEZONE
BEGIN:VEVENT
DTSTART;TZID=Europe/Berlin:20230618T100000
DTEND;TZID=Europe/Berlin:20230618T120000
DTSTAMP:20260423T185750
CREATED:20230513T084604Z
LAST-MODIFIED:20230513T084604Z
UID:3408-1687082400-1687089600@taeryon.bayern
SUMMARY:Formenlehrgang Hyong für Braun- und Schwarzgurte
DESCRIPTION:Formenlehrgang Hyong für Braun- und Schwarzgurte am 18.6.23\nLink zur Ausschreibung
URL:https://taeryon.bayern/WordPress_02/index.php/event/formenlehrgang-hyong-fuer-braun-und-schwarzgurte/
LOCATION:Turnhalle Martinschule\, Martinstr. 7\, Olching\, 82140
ORGANIZER;CN="Taeryon e.V.":MAILTO:info@taeryon.bayern
END:VEVENT
END:VCALENDAR