BEGIN:VCALENDAR
VERSION:2.0
PRODID:-//Taeryon e.V. - ECPv6.2.9//NONSGML v1.0//EN
CALSCALE:GREGORIAN
METHOD:PUBLISH
X-WR-CALNAME:Taeryon e.V.
X-ORIGINAL-URL:https://taeryon.bayern/WordPress_02
X-WR-CALDESC:Veranstaltungen für Taeryon e.V.
REFRESH-INTERVAL;VALUE=DURATION:PT1H
X-Robots-Tag:noindex
X-PUBLISHED-TTL:PT1H
BEGIN:VTIMEZONE
TZID:Europe/Berlin
BEGIN:DAYLIGHT
TZOFFSETFROM:+0100
TZOFFSETTO:+0200
TZNAME:CEST
DTSTART:20220327T010000
END:DAYLIGHT
BEGIN:STANDARD
TZOFFSETFROM:+0200
TZOFFSETTO:+0100
TZNAME:CET
DTSTART:20221030T010000
END:STANDARD
END:VTIMEZONE
BEGIN:VEVENT
DTSTART;TZID=Europe/Berlin:20220702T130000
DTEND;TZID=Europe/Berlin:20220702T194500
DTSTAMP:20260424T130046
CREATED:20220524T060026Z
LAST-MODIFIED:20220524T080506Z
UID:2519-1656766800-1656791100@taeryon.bayern
SUMMARY:KUP / DAN-Prüfungsvorbereitung Erwachsene und Jugendliche
DESCRIPTION:KUP / DAN-Prüfungsvorbereitung Erwachsene und Jugendliche\nLink zur Anmeldung
URL:https://taeryon.bayern/WordPress_02/index.php/event/tkd-lehrgang-erw-ju-12072020/
LOCATION:Turnhalle Martinschule\, Martinstr. 7\, Olching\, 82140
ORGANIZER;CN="Taeryon e.V.":MAILTO:info@taeryon.bayern
END:VEVENT
END:VCALENDAR